BEGIN:VCALENDAR
VERSION:2.0
PRODID:-//demosphere.net//NONSGML kigkonsult.se iCalcreator 2.22.1//
METHOD:REQUEST
X-WR-TIMEZONE:Europe/Paris
BEGIN:VEVENT
UID:https://safe.tarn.demosphere.net/rv/19161
DTSTAMP:20230618T063000Z
DESCRIPTION:plus d'infos sur : https://safe.tarn.demosphere.net/rv/19161
DTSTART:20230618T063000Z
DTEND:20230618T073000Z
GEO:+43.748953;+2.264372
LOCATION:Montredon-Labessonnié\, \nLa ferme des Zazous \nLa Borie Maigre \n
 81360 Montredon-Labessonnié
SUMMARY:Animation LPO 81 à la Ferme des Zazous
URL:https://safe.tarn.demosphere.net/rv/19161
END:VEVENT
END:VCALENDAR
