BEGIN:VCALENDAR
VERSION:2.0
PRODID:-//demosphere.net//NONSGML kigkonsult.se iCalcreator 2.22.1//
METHOD:REQUEST
X-WR-TIMEZONE:Europe/Paris
BEGIN:VEVENT
UID:https://safe.tarn.demosphere.net/rv/1905
DTSTAMP:20131214T023300Z
DESCRIPTION:plus d'infos sur : https://safe.tarn.demosphere.net/rv/1905
DTSTART;VALUE=DATE:20131214
GEO:+44.07285;+1.801892
LOCATION:Vaour\, \nLe Muret
SUMMARY:concert de blues
URL:https://safe.tarn.demosphere.net/rv/1905
END:VEVENT
END:VCALENDAR
