BEGIN:VCALENDAR
VERSION:2.0
PRODID:-//demosphere.net//NONSGML kigkonsult.se iCalcreator 2.22.1//
METHOD:REQUEST
X-WR-TIMEZONE:Europe/Paris
BEGIN:VEVENT
UID:https://safe.tarn.demosphere.net/rv/19044
DTSTAMP:20230528T180000Z
DESCRIPTION:plus d'infos sur : https://safe.tarn.demosphere.net/rv/19044
DTSTART:20230528T180000Z
DTEND:20230528T190000Z
GEO:+43.759597;+1.988911
LOCATION:Graulhet\, \nParc de la Bousquetarié \nGraulhet
SUMMARY:Biocybèle-DaTes LuNaires
URL:https://safe.tarn.demosphere.net/rv/19044
END:VEVENT
END:VCALENDAR
