BEGIN:VCALENDAR
VERSION:2.0
PRODID:-//demosphere.net//NONSGML kigkonsult.se iCalcreator 2.22.1//
METHOD:REQUEST
X-WR-TIMEZONE:Europe/Paris
BEGIN:VEVENT
UID:https://safe.tarn.demosphere.net/rv/18991
DTSTAMP:20230728T080000Z
DESCRIPTION:plus d'infos sur : https://safe.tarn.demosphere.net/rv/18991
DTSTART:20230728T080000Z
DTEND:20230728T090000Z
GEO:+44.015872;+2.14091
LOCATION:Le Garric\, \nEspace de loisirs Cap Découverte 81450 Le Garric
SUMMARY:L’Xtreme Fest fête ses 10 ans
URL:https://safe.tarn.demosphere.net/rv/18991
END:VEVENT
END:VCALENDAR
