BEGIN:VCALENDAR
VERSION:2.0
PRODID:-//demosphere.net//NONSGML kigkonsult.se iCalcreator 2.22.1//
METHOD:REQUEST
X-WR-TIMEZONE:Europe/Paris
BEGIN:VEVENT
UID:https://safe.tarn.demosphere.net/rv/18979
DTSTAMP:20230621T170000Z
DESCRIPTION:plus d'infos sur : https://safe.tarn.demosphere.net/rv/18979
DTSTART:20230621T170000Z
DTEND:20230621T180000Z
GEO:+43.929636;+2.151285
LOCATION:Albi\, \nCarré Public - 6\, rue Jules Rolland
SUMMARY:SIR ROMY + LAVA VEINS + M02X + CLUNKERL
URL:https://safe.tarn.demosphere.net/rv/18979
END:VEVENT
END:VCALENDAR
