BEGIN:VCALENDAR
VERSION:2.0
PRODID:-//demosphere.net//NONSGML kigkonsult.se iCalcreator 2.22.1//
METHOD:REQUEST
X-WR-TIMEZONE:Europe/Paris
BEGIN:VEVENT
UID:https://safe.tarn.demosphere.net/rv/1846
DTSTAMP:20131129T200000Z
DESCRIPTION:plus d'infos sur : https://safe.tarn.demosphere.net/rv/1846
DTSTART:20131129T200000Z
DTEND:20131129T210000Z
GEO:+43.759597;+1.988911
LOCATION:Graulhet\, \nParc de la Bousquetarié \nGraulhet
SUMMARY:Trio musique orientale
URL:https://safe.tarn.demosphere.net/rv/1846
END:VEVENT
END:VCALENDAR
