BEGIN:VCALENDAR
VERSION:2.0
PRODID:-//demosphere.net//NONSGML kigkonsult.se iCalcreator 2.22.1//
METHOD:REQUEST
X-WR-TIMEZONE:Europe/Paris
BEGIN:VEVENT
UID:https://safe.tarn.demosphere.net/rv/18437
DTSTAMP:20230409T083000Z
DESCRIPTION:plus d'infos sur : https://safe.tarn.demosphere.net/rv/18437
DTSTART:20230409T083000Z
DTEND:20230409T093000Z
LOCATION:Montredon-Labessonnié\, \nLa Borie Maigre\, 81360 Montredon-Labess
 onnié (à mi-chemin entre Réalmont et Montredon)
SUMMARY:Journée Portes Ouvertes à la Ferme des Zazous
URL:https://safe.tarn.demosphere.net/rv/18437
END:VEVENT
END:VCALENDAR
