BEGIN:VCALENDAR
VERSION:2.0
PRODID:-//demosphere.net//NONSGML kigkonsult.se iCalcreator 2.22.1//
METHOD:REQUEST
X-WR-TIMEZONE:Europe/Paris
BEGIN:VEVENT
UID:https://safe.tarn.demosphere.net/rv/18094
DTSTAMP:20230204T130000Z
DESCRIPTION:plus d'infos sur : https://safe.tarn.demosphere.net/rv/18094
DTSTART:20230204T130000Z
DTEND:20230204T140000Z
LOCATION:Valderiès\, \nSalle communale \n81350 Valdériès
SUMMARY:Forum Habitat et Énergie
URL:https://safe.tarn.demosphere.net/rv/18094
END:VEVENT
END:VCALENDAR
