BEGIN:VCALENDAR
VERSION:2.0
PRODID:-//demosphere.net//NONSGML kigkonsult.se iCalcreator 2.22.1//
METHOD:REQUEST
X-WR-TIMEZONE:Europe/Paris
BEGIN:VEVENT
UID:https://safe.tarn.demosphere.net/rv/1686
DTSTAMP:20131031T093000Z
DESCRIPTION:plus d'infos sur : https://safe.tarn.demosphere.net/rv/1686
DTSTART:20131031T093000Z
DTEND:20131031T103000Z
GEO:+43.759597;+1.988911
LOCATION:Graulhet\, \nParc de la Bousquetarié \nGraulhet
SUMMARY:Les stages du cirque PISTIL
URL:https://safe.tarn.demosphere.net/rv/1686
END:VEVENT
END:VCALENDAR
