BEGIN:VCALENDAR
VERSION:2.0
PRODID:-//demosphere.net//NONSGML kigkonsult.se iCalcreator 2.22.1//
METHOD:REQUEST
X-WR-TIMEZONE:Europe/Paris
BEGIN:VEVENT
UID:https://safe.tarn.demosphere.net/rv/16775
DTSTAMP:20220729T013300Z
DESCRIPTION:plus d'infos sur : https://safe.tarn.demosphere.net/rv/16775
DTSTART;VALUE=DATE:20220729
GEO:+44.015872;+2.14091
LOCATION:Le Garric\, \nEspace de loisirs Cap Découverte 81450 Le Garric
SUMMARY:Xtreme Fest 2022
URL:https://safe.tarn.demosphere.net/rv/16775
END:VEVENT
END:VCALENDAR
