BEGIN:VCALENDAR
VERSION:2.0
PRODID:-//demosphere.net//NONSGML kigkonsult.se iCalcreator 2.22.1//
METHOD:REQUEST
X-WR-TIMEZONE:Europe/Paris
BEGIN:VEVENT
UID:https://safe.tarn.demosphere.net/rv/16604
DTSTAMP:20220616T160000Z
DESCRIPTION:plus d'infos sur : https://safe.tarn.demosphere.net/rv/16604
DTSTART:20220616T160000Z
DTEND:20220616T170000Z
GEO:+43.929636;+2.151285
LOCATION:Albi\, \nCarré Public - 6\, rue Jules Rolland
SUMMARY:Concert Melan + Open MIC
URL:https://safe.tarn.demosphere.net/rv/16604
END:VEVENT
END:VCALENDAR
