BEGIN:VCALENDAR
VERSION:2.0
PRODID:-//demosphere.net//NONSGML kigkonsult.se iCalcreator 2.22.1//
METHOD:REQUEST
X-WR-TIMEZONE:Europe/Paris
BEGIN:VEVENT
UID:https://safe.tarn.demosphere.net/rv/16310
DTSTAMP:20220416T083000Z
DESCRIPTION:plus d'infos sur : https://safe.tarn.demosphere.net/rv/16310
DTSTART:20220416T083000Z
DTEND:20220416T093000Z
GEO:+43.748953;+2.264372
LOCATION:Montredon-Labessonnié\, \nLa ferme des Zazous \nLa Borie Maigre \n
 81360 Montredon-Labessonnié
SUMMARY:Portes Ouvertes à la ferme des Zazous
URL:https://safe.tarn.demosphere.net/rv/16310
END:VEVENT
END:VCALENDAR
