BEGIN:VCALENDAR
VERSION:2.0
PRODID:-//demosphere.net//NONSGML kigkonsult.se iCalcreator 2.22.1//
METHOD:REQUEST
X-WR-TIMEZONE:Europe/Paris
BEGIN:VEVENT
UID:https://safe.tarn.demosphere.net/rv/1631
DTSTAMP:20131012T183000Z
DESCRIPTION:plus d'infos sur : https://safe.tarn.demosphere.net/rv/1631
DTSTART:20131012T183000Z
DTEND:20131012T193000Z
GEO:+43.684712;+2.854679
LOCATION:Murat sur Vèbre\, \nSalle des fêtes \n81320 Murat sur Vèbre
SUMMARY:Cinédébat 'Des abeilles et des hommes'
URL:https://safe.tarn.demosphere.net/rv/1631
END:VEVENT
END:VCALENDAR
