BEGIN:VCALENDAR
VERSION:2.0
PRODID:-//demosphere.net//NONSGML kigkonsult.se iCalcreator 2.22.1//
METHOD:REQUEST
X-WR-TIMEZONE:Europe/Paris
BEGIN:VEVENT
UID:https://safe.tarn.demosphere.net/rv/14905
DTSTAMP:20210610T160000Z
DESCRIPTION:plus d'infos sur : https://safe.tarn.demosphere.net/rv/14905
DTSTART:20210610T160000Z
DTEND:20210610T170000Z
GEO:+43.929636;+2.151285
LOCATION:Albi\, \nCarré Public - 6\, rue Jules Rolland
SUMMARY:Carrément musique #9: Badass Mother Fuzzers + The Dirty Hats
URL:https://safe.tarn.demosphere.net/rv/14905
END:VEVENT
END:VCALENDAR
