BEGIN:VCALENDAR
VERSION:2.0
PRODID:-//demosphere.net//NONSGML kigkonsult.se iCalcreator 2.22.1//
METHOD:REQUEST
X-WR-TIMEZONE:Europe/Paris
BEGIN:VEVENT
UID:https://safe.tarn.demosphere.net/rv/14682
DTSTAMP:20210323T183000Z
DESCRIPTION:plus d'infos sur : https://safe.tarn.demosphere.net/rv/14682
DTSTART:20210323T183000Z
DTEND:20210323T193000Z
LOCATION:Visioconf\, \nEn visio
SUMMARY:Xtreme Fest - Live Stronger Session avec Pogo Car Crash Control
URL:https://safe.tarn.demosphere.net/rv/14682
END:VEVENT
END:VCALENDAR
