BEGIN:VCALENDAR
VERSION:2.0
PRODID:-//demosphere.net//NONSGML kigkonsult.se iCalcreator 2.22.1//
METHOD:REQUEST
X-WR-TIMEZONE:Europe/Paris
BEGIN:VEVENT
UID:https://safe.tarn.demosphere.net/rv/14305
DTSTAMP:20201004T183000Z
DESCRIPTION:plus d'infos sur : https://safe.tarn.demosphere.net/rv/14305
DTSTART:20201004T183000Z
DTEND:20201004T193000Z
GEO:+43.684712;+2.854679
LOCATION:Murat sur Vèbre\, \nSalle des fêtes \n81320 Murat sur Vèbre
SUMMARY:Film documentaire Cyrille\, agriculteur\, 30 ans\, 20 vaches\, du l
 ait\, du beurre\, des dettes
URL:https://safe.tarn.demosphere.net/rv/14305
END:VEVENT
END:VCALENDAR
