BEGIN:VCALENDAR
VERSION:2.0
PRODID:-//demosphere.net//NONSGML kigkonsult.se iCalcreator 2.22.1//
METHOD:REQUEST
X-WR-TIMEZONE:Europe/Paris
BEGIN:VEVENT
UID:https://safe.tarn.demosphere.net/rv/1306
DTSTAMP:20130607T180000Z
DESCRIPTION:plus d'infos sur : https://safe.tarn.demosphere.net/rv/1306
DTSTART:20130607T180000Z
DTEND:20130607T190000Z
GEO:+43.759597;+1.988911
LOCATION:Graulhet\, \nParc de la Bousquetarié \nGraulhet
SUMMARY:Projection/Débat : 'Plogoff\, des pierres contres des fusils'
URL:https://safe.tarn.demosphere.net/rv/1306
END:VEVENT
END:VCALENDAR
