BEGIN:VCALENDAR
VERSION:2.0
PRODID:-//demosphere.net//NONSGML kigkonsult.se iCalcreator 2.22.1//
METHOD:REQUEST
X-WR-TIMEZONE:Europe/Paris
BEGIN:VEVENT
UID:https://safe.tarn.demosphere.net/rv/1292
DTSTAMP:20130531T190000Z
DESCRIPTION:plus d'infos sur : https://safe.tarn.demosphere.net/rv/1292
DTSTART:20130531T190000Z
DTEND:20130531T200000Z
GEO:+43.759597;+1.988911
LOCATION:Graulhet\, \nParc de la Bousquetarié \nGraulhet
SUMMARY:Présentation par l'Université Nomade de son film 'Le houblon s'impl
 ante'
URL:https://safe.tarn.demosphere.net/rv/1292
END:VEVENT
END:VCALENDAR
