BEGIN:VCALENDAR
VERSION:2.0
PRODID:-//demosphere.net//NONSGML kigkonsult.se iCalcreator 2.22.1//
METHOD:REQUEST
X-WR-TIMEZONE:Europe/Paris
BEGIN:VEVENT
UID:https://safe.tarn.demosphere.net/rv/1164
DTSTAMP:20130612T180000Z
DESCRIPTION:plus d'infos sur : https://safe.tarn.demosphere.net/rv/1164
DTSTART:20130612T180000Z
DTEND:20130612T190000Z
GEO:+43.759597;+1.988911
LOCATION:Graulhet\, \nParc de la Bousquetarié \nGraulhet
SUMMARY:Bilan des journées  Forum Social Tarnais mai 2013
URL:https://safe.tarn.demosphere.net/rv/1164
END:VEVENT
END:VCALENDAR
