BEGIN:VCALENDAR
VERSION:2.0
PRODID:-//demosphere.net//NONSGML kigkonsult.se iCalcreator 2.22.1//
METHOD:REQUEST
X-WR-TIMEZONE:Europe/Paris
BEGIN:VEVENT
UID:https://safe.tarn.demosphere.net/rv/11562
DTSTAMP:20190609T080000Z
DESCRIPTION:plus d'infos sur : https://safe.tarn.demosphere.net/rv/11562
DTSTART:20190609T080000Z
DTEND:20190609T090000Z
GEO:+43.759597;+1.988911
LOCATION:Graulhet\, \nParc de la Bousquetarié \nGraulhet
SUMMARY:Biocybèle - La foire de l'agriculture bio et des alternatives
URL:https://safe.tarn.demosphere.net/rv/11562
END:VEVENT
END:VCALENDAR
