BEGIN:VCALENDAR
VERSION:2.0
PRODID:-//demosphere.net//NONSGML kigkonsult.se iCalcreator 2.22.1//
METHOD:REQUEST
X-WR-TIMEZONE:Europe/Paris
BEGIN:VEVENT
UID:https://safe.tarn.demosphere.net/rv/1112
DTSTAMP:20130426T160000Z
DESCRIPTION:plus d'infos sur : https://safe.tarn.demosphere.net/rv/1112
DTSTART:20130426T160000Z
DTEND:20130426T170000Z
GEO:+43.759597;+1.988911
LOCATION:Graulhet\, \nParc de la Bousquetarié \nGraulhet
SUMMARY:Forum Social Tarnais
URL:https://safe.tarn.demosphere.net/rv/1112
END:VEVENT
END:VCALENDAR
