BEGIN:VCALENDAR
VERSION:2.0
PRODID:-//demosphere.net//NONSGML kigkonsult.se iCalcreator 2.22.1//
METHOD:REQUEST
X-WR-TIMEZONE:Europe/Paris
BEGIN:VEVENT
UID:https://safe.tarn.demosphere.net/rv/110
DTSTAMP:20120324T083000Z
DESCRIPTION:plus d'infos sur : https://safe.tarn.demosphere.net/rv/110
DTSTART:20120324T083000Z
DTEND:20120324T093000Z
GEO:+43.904842;+2.14059
LOCATION:Albi\, \nQuartier de Ranteil \n3\, chemin de Ranteil \n81000 ALBI
SUMMARY:Assemblée générale du MAN Albi et de l'IFMAN-midi
URL:https://safe.tarn.demosphere.net/rv/110
END:VEVENT
END:VCALENDAR
