BEGIN:VCALENDAR
VERSION:2.0
PRODID:-//demosphere.net//NONSGML kigkonsult.se iCalcreator 2.22.1//
METHOD:REQUEST
X-WR-TIMEZONE:Europe/Paris
BEGIN:VEVENT
UID:https://safe.tarn.demosphere.net/rv/1056
DTSTAMP:20130329T193000Z
DESCRIPTION:plus d'infos sur : https://safe.tarn.demosphere.net/rv/1056
DTSTART:20130329T193000Z
DTEND:20130329T203000Z
GEO:+43.759597;+1.988911
LOCATION:Graulhet\, \nParc de la Bousquetarié \nGraulhet
SUMMARY:l'ibère familier - Gestes de terre
URL:https://safe.tarn.demosphere.net/rv/1056
END:VEVENT
END:VCALENDAR
