BEGIN:VCALENDAR
VERSION:2.0
PRODID:-//demosphere.net//NONSGML kigkonsult.se iCalcreator 2.22.1//
METHOD:REQUEST
X-WR-TIMEZONE:Europe/Paris
BEGIN:VEVENT
UID:https://safe.tarn.demosphere.net/rv/10105
DTSTAMP:20180929T183000Z
DESCRIPTION:plus d'infos sur : https://safe.tarn.demosphere.net/rv/10105
DTSTART:20180929T183000Z
DTEND:20180929T193000Z
GEO:+43.929636;+2.151285
LOCATION:Albi\, \nCarré Public - 6\, rue Jules Rolland
SUMMARY:CINE EN PLEIN AIR - Nous trois ou rien de Kheiron au Carré public
URL:https://safe.tarn.demosphere.net/rv/10105
END:VEVENT
END:VCALENDAR
