BEGIN:VCALENDAR
VERSION:2.0
PRODID:-//demosphere.net//NONSGML kigkonsult.se iCalcreator 2.22.1//
METHOD:REQUEST
X-WR-TIMEZONE:Europe/Paris
BEGIN:VEVENT
UID:https://safe.tarn.demosphere.net/rv/10033
DTSTAMP:20181007T160000Z
DESCRIPTION:plus d'infos sur : https://safe.tarn.demosphere.net/rv/10033
DTSTART:20181007T160000Z
DTEND:20181007T170000Z
GEO:+43.684712;+2.854679
LOCATION:Murat sur Vèbre\, \nSalle des fêtes \n81320 Murat sur Vèbre
SUMMARY:Projection en Avant-première du film documentaire Le grand bal de L
 aetitia Carton
URL:https://safe.tarn.demosphere.net/rv/10033
END:VEVENT
END:VCALENDAR
